BEGIN:VCALENDAR
VERSION:2.0
PRODID:-//hacksw/handcal//NONSGML v1.0//EN
BEGIN:VEVENT
SUMMARY:Aqua Sante Decouverte
UID:130e4dfc-6042-4dc2-8955-424e0ea7f4df
DTSTART:20260407T170000Z
DTEND:20260407T183000Z
LOCATION:Localisation   
CATEGORIES:Sportif
STATUS:
URL;VALUE=URI:https://www.clubaquatiquepossession.com/evenements/2026/04/07/aqua-sante-decouverte-2422851
END:VEVENT
END:VCALENDAR
