BEGIN:VCALENDAR
VERSION:2.0
PRODID:-//hacksw/handcal//NONSGML v1.0//EN
BEGIN:VEVENT
SUMMARY:Aqua Sante Decouverte
UID:e70b7a4c-a8f4-4984-bd4c-06feed528678
DTSTART:20260414T170000Z
DTEND:20260414T183000Z
LOCATION:Localisation   
CATEGORIES:Sportif
STATUS:
URL;VALUE=URI:https://www.clubaquatiquepossession.com/evenements/2026/04/14/aqua-sante-decouverte-2429221
END:VEVENT
END:VCALENDAR
