BEGIN:VCALENDAR
VERSION:2.0
PRODID:-//hacksw/handcal//NONSGML v1.0//EN
BEGIN:VEVENT
SUMMARY:💦🏖CAP Vacances Alevins 💦🏖 Du 4 au 15 Mai 2026
UID:38091de4-0504-459e-a841-445022a411ea
DTSTART:20260504T144500Z
DTEND:20260515T151500Z
LOCATION:Localisation   
CATEGORIES:Sportif
STATUS:
DESCRIPTION:<h3><u><span style="color:#3498db;"><strong>Une formule
 pour les vacances ouverte a
 tous</strong></span></u></h3>
 
 <p> Lundi, Vendredi 16h45-17h15 /
 Mardi 16h45-17h30 ET Mercredi 16h30-17h</p>
URL;VALUE=URI:https://www.clubaquatiquepossession.com/evenements/2026/05/04/cap-vacances-alevins-du-4-au-15-mai-2026-2440752
END:VEVENT
END:VCALENDAR
